BEGIN:VCALENDAR
VERSION:2.0
PRODID:-//AnesthesiaConference.com - ECPv6.15.20//NONSGML v1.0//EN
CALSCALE:GREGORIAN
METHOD:PUBLISH
X-WR-CALNAME:AnesthesiaConference.com
X-ORIGINAL-URL:https://www.anesthesiaconference.com
X-WR-CALDESC:Events for AnesthesiaConference.com
REFRESH-INTERVAL;VALUE=DURATION:PT1H
X-Robots-Tag:noindex
X-PUBLISHED-TTL:PT1H
BEGIN:VTIMEZONE
TZID:UTC
BEGIN:STANDARD
TZOFFSETFROM:+0000
TZOFFSETTO:+0000
TZNAME:UTC
DTSTART:20250101T000000
END:STANDARD
END:VTIMEZONE
BEGIN:VEVENT
DTSTART;TZID=UTC:20260423T070000
DTEND;TZID=UTC:20260426T180000
DTSTAMP:20260419T142037
CREATED:20260415T225923Z
LAST-MODIFIED:20260415T225923Z
UID:94-1776927600-1777226400@www.anesthesiaconference.com
SUMMARY:SCA 48th Annual Meeting and Workshops 2026
DESCRIPTION:The Society of Cardiovascular Anesthesiologists Annual Meeting covers the latest in cardiovascular anesthesia\, perioperative echocardiography\, and critical care. CME credits available. Location: Nashville\, TN.
URL:https://www.anesthesiaconference.com/event/sca-48th-annual-meeting-and-workshops-2026/
END:VEVENT
BEGIN:VEVENT
DTSTART;TZID=UTC:20260424T070000
DTEND;TZID=UTC:20260426T180000
DTSTAMP:20260419T142037
CREATED:20260415T230807Z
LAST-MODIFIED:20260415T230807Z
UID:124-1777014000-1777226400@www.anesthesiaconference.com
SUMMARY:SEA 2026 Spring Meeting
DESCRIPTION:Society for Education in Anesthesia 2026 Spring Meeting — three days of faculty development\, simulation\, and medical education innovation. Theme: Beyond the Anesthesia Machine: Finding Your Professional Purpose. CME credits available. Location: Live! by Loews St. Louis\, MO.
URL:https://www.anesthesiaconference.com/event/sea-2026-spring-meeting/
END:VEVENT
BEGIN:VEVENT
DTSTART;TZID=UTC:20260429T070000
DTEND;TZID=UTC:20260502T180000
DTSTAMP:20260419T142037
CREATED:20260415T231038Z
LAST-MODIFIED:20260415T231038Z
UID:140-1777446000-1777744800@www.anesthesiaconference.com
SUMMARY:CPS 2026 Annual Scientific Meeting
DESCRIPTION:College of Physicians and Surgeons of Quebec — Anesthesia Section Annual Scientific Meeting 2026. French/English bilingual conference for Quebec anesthesiologists. Clinical sessions\, case presentations\, and networking. CME/CE credits available. Location: Québec City Convention Centre\, Quebec City\, Canada.
URL:https://www.anesthesiaconference.com/event/cps-2026-annual-scientific-meeting/
END:VEVENT
BEGIN:VEVENT
DTSTART;TZID=UTC:20260429T070000
DTEND;TZID=UTC:20260503T180000
DTSTAMP:20260419T142037
CREATED:20260415T230524Z
LAST-MODIFIED:20260415T230524Z
UID:120-1777446000-1777831200@www.anesthesiaconference.com
SUMMARY:SOAP 58th Annual Meeting 2026
DESCRIPTION:Society for Obstetric Anesthesia and Perinatology 58th Annual Meeting — premier conference covering the latest in obstetric anesthesia\, perinatology\, and maternal-fetal medicine. Expert faculty\, research presentations\, and networking. CME credits available. Location: Le Westin Montreal\, Montreal\, Quebec\, Canada.
URL:https://www.anesthesiaconference.com/event/soap-58th-annual-meeting-2026/
END:VEVENT
BEGIN:VEVENT
DTSTART;TZID=UTC:20260501T070000
DTEND;TZID=UTC:20260503T180000
DTSTAMP:20260419T142037
CREATED:20260415T225924Z
LAST-MODIFIED:20260415T225924Z
UID:71-1777618800-1777831200@www.anesthesiaconference.com
SUMMARY:SOCCA 2026 Annual Meeting (Joint with IARS)
DESCRIPTION:The SOCCA Annual Meeting co-hosted with IARS\, focusing on critical care anesthesiology\, featuring expert-led sessions on ICU management\, perioperative care\, and emerging research. CME credits available. Co-located with IARS 2026 Annual Meeting. Location: Fairmont The Queen Elizabeth Hotel\, Montreal\, Canada.
URL:https://www.anesthesiaconference.com/event/socca-2026-annual-meeting/
END:VEVENT
BEGIN:VEVENT
DTSTART;TZID=UTC:20260501T070000
DTEND;TZID=UTC:20260503T180000
DTSTAMP:20260419T142037
CREATED:20260415T225925Z
LAST-MODIFIED:20260415T225925Z
UID:69-1777618800-1777831200@www.anesthesiaconference.com
SUMMARY:IARS 2026 Annual Meeting (Joint with SOCCA)
DESCRIPTION:The IARS Annual Meeting co-hosted with SOCCA\, bringing together leading researchers and clinicians in anesthesia\, critical care\, and pain medicine. Features oral presentations\, poster sessions\, and CME credits. Co-located with SOCCA 2026. Location: Fairmont The Queen Elizabeth Hotel\, Montreal\, Canada.
URL:https://www.anesthesiaconference.com/event/iars-2026-annual-meeting/
END:VEVENT
BEGIN:VEVENT
DTSTART;TZID=UTC:20260501T070000
DTEND;TZID=UTC:20260505T180000
DTSTAMP:20260419T142037
CREATED:20260415T231031Z
LAST-MODIFIED:20260415T231031Z
UID:136-1777618800-1778004000@www.anesthesiaconference.com
SUMMARY:ANZCA Annual Scientific Meeting (ASM) 2026
DESCRIPTION:Australian and New Zealand College of Anaesthetists 2026 Annual Scientific Meeting — the premier anesthesia conference in Australasia. Theme: ‘Herenga Waka Herenga Tāngata: From home to home.’ Six days of workshops\, keynotes\, and clinical education across anesthesia and pain medicine. CME/CE credits available. Location: New Zealand International Convention Centre\, Auckland\, New Zealand.
URL:https://www.anesthesiaconference.com/event/anzca-annual-scientific-meeting-asm-2026/
END:VEVENT
BEGIN:VEVENT
DTSTART;TZID=UTC:20260513T070000
DTEND;TZID=UTC:20260516T180000
DTSTAMP:20260419T142037
CREATED:20260415T230949Z
LAST-MODIFIED:20260415T230949Z
UID:134-1778655600-1778954400@www.anesthesiaconference.com
SUMMARY:SPA-AAP Pediatric Anesthesiology 2026
DESCRIPTION:Society for Pediatric Anesthesia and American Academy of Pediatrics 2026 Joint Meeting — the premier conference for pediatric anesthesiology. Expert faculty\, case discussions\, and hands-on workshops covering pediatric sedation\, regional anesthesia\, and perioperative care. CME credits available. Location: Sheraton Denver Downtown\, Denver\, CO.
URL:https://www.anesthesiaconference.com/event/spa-aap-pediatric-anesthesiology-2026/
END:VEVENT
BEGIN:VEVENT
DTSTART;TZID=UTC:20260520T070000
DTEND;TZID=UTC:20260522T180000
DTSTAMP:20260419T142037
CREATED:20260415T231040Z
LAST-MODIFIED:20260415T231040Z
UID:142-1779260400-1779472800@www.anesthesiaconference.com
SUMMARY:College of Anaesthesiologists of Ireland Annual Congress 2026
DESCRIPTION:College of Anaesthesiologists of Ireland Annual Congress — two-day national anesthesia meeting for Irish anesthetists\, featuring forward-thinking clinical education and collaboration. CME/CE credits available. Location: University College Dublin (UCD)\, Dublin\, Ireland.
URL:https://www.anesthesiaconference.com/event/college-of-anaesthesiologists-of-ireland-annual-congress-2026/
END:VEVENT
BEGIN:VEVENT
DTSTART;TZID=UTC:20260605T070000
DTEND;TZID=UTC:20260607T180000
DTSTAMP:20260419T142037
CREATED:20260415T231036Z
LAST-MODIFIED:20260415T231036Z
UID:139-1780642800-1780855200@www.anesthesiaconference.com
SUMMARY:CAS Annual Meeting 2026
DESCRIPTION:Canadian Anesthesiologists’ Society 2026 Annual Meeting — the national Canadian anesthesia conference featuring expert faculty\, clinical research\, and professional development. Fulfills continuing education requirements. CME/CE credits available. Location: The Westin\, Ottawa\, Ontario\, Canada.
URL:https://www.anesthesiaconference.com/event/cas-annual-meeting-2026/
END:VEVENT
BEGIN:VEVENT
DTSTART;TZID=UTC:20260606T070000
DTEND;TZID=UTC:20260608T180000
DTSTAMP:20260419T142037
CREATED:20260415T230835Z
LAST-MODIFIED:20260415T230835Z
UID:130-1780729200-1780941600@www.anesthesiaconference.com
SUMMARY:Euroanaesthesia (ESAIC) 2026
DESCRIPTION:European Society of Anaesthesiology and Intensive Care Annual Congress — one of the world’s largest and most prestigious anesthesiology conferences\, drawing 15\,000+ attendees. Cutting-edge research\, clinical practice updates\, and global networking. CME/CE credits available. Location: Rotterdam Ahoy\, Rotterdam\, Netherlands.
URL:https://www.anesthesiaconference.com/event/euroanaesthesia-esaic-2026/
END:VEVENT
BEGIN:VEVENT
DTSTART;TZID=UTC:20260612T070000
DTEND;TZID=UTC:20260614T180000
DTSTAMP:20260419T142037
CREATED:20260415T230438Z
LAST-MODIFIED:20260415T230438Z
UID:114-1781247600-1781460000@www.anesthesiaconference.com
SUMMARY:Florida Society of Anesthesiologists (FSA) Annual Meeting 2026
DESCRIPTION:Florida Society of Anesthesiologists Annual Meeting — educational sessions\, practice management\, and networking for anesthesia professionals. CME credits available. Location: The Breakers\, West Palm Beach\, FL.
URL:https://www.anesthesiaconference.com/event/florida-society-of-anesthesiologists-fsa-annual-meeting-2026/
END:VEVENT
BEGIN:VEVENT
DTSTART;TZID=UTC:20260720T070000
DTEND;TZID=UTC:20260723T180000
DTSTAMP:20260419T142037
CREATED:20260415T230208Z
LAST-MODIFIED:20260415T230208Z
UID:102-1784530800-1784829600@www.anesthesiaconference.com
SUMMARY:Topics in Anesthesia - Northwest Anesthesia Seminars (Seattle)
DESCRIPTION:Northwest Anesthesia Seminars conference covering trending topics in anesthesia. CME credits available. Location: Seattle\, Washington.
URL:https://www.anesthesiaconference.com/event/topics-in-anesthesia-northwest-anesthesia-seminars-seattle/
END:VEVENT
BEGIN:VEVENT
DTSTART;TZID=UTC:20260720T070000
DTEND;TZID=UTC:20260723T180000
DTSTAMP:20260419T142037
CREATED:20260416T102628Z
LAST-MODIFIED:20260416T102628Z
UID:144-1784530800-1784829600@www.anesthesiaconference.com
SUMMARY:Topics in Anesthesia — Northwest Anesthesia Seminars (Seattle)
DESCRIPTION:Northwest Anesthesia Seminars conference covering trending topics in anesthesia practice. CME credits available. Location: Seattle\, Washington.
URL:https://www.anesthesiaconference.com/event/topics-in-anesthesia-northwest-anesthesia-seminars-seattle-2/
END:VEVENT
BEGIN:VEVENT
DTSTART;TZID=UTC:20260807T070000
DTEND;TZID=UTC:20260809T180000
DTSTAMP:20260419T142037
CREATED:20260415T230221Z
LAST-MODIFIED:20260415T230221Z
UID:107-1786086000-1786298400@www.anesthesiaconference.com
SUMMARY:Mayo Clinic: 9th Annual Anesthesiology & Perioperative Medicine Update 2026
DESCRIPTION:Mayo Clinic course on anesthesiology and perioperative medicine updates. Expert faculty present the latest science and practice recommendations. CME credits available. Location: Grand Hotel\, Mackinac Island\, Michigan.
URL:https://www.anesthesiaconference.com/event/mayo-clinic-9th-annual-anesthesiology-perioperative-medicine-update-2026/
END:VEVENT
BEGIN:VEVENT
DTSTART;TZID=UTC:20260821T070000
DTEND;TZID=UTC:20260825T180000
DTSTAMP:20260419T142037
CREATED:20260415T225926Z
LAST-MODIFIED:20260415T225926Z
UID:76-1787295600-1787680800@www.anesthesiaconference.com
SUMMARY:AANA Annual Congress 2026
DESCRIPTION:The AANA Annual Congress is the largest gathering of nurse anesthesiologists in the US\, featuring CE credits\, clinical workshops\, and professional development. Location: Boston Convention and Exhibition Center\, Boston\, MA.
URL:https://www.anesthesiaconference.com/event/aana-annual-congress-2026/
END:VEVENT
BEGIN:VEVENT
DTSTART;TZID=UTC:20260909T070000
DTEND;TZID=UTC:20260912T180000
DTSTAMP:20260419T142037
CREATED:20260415T230814Z
LAST-MODIFIED:20260415T230814Z
UID:127-1788937200-1789236000@www.anesthesiaconference.com
SUMMARY:ESRA 43rd Annual Congress 2026
DESCRIPTION:European Society of Regional Anaesthesia and Pain Therapy 43rd Annual Congress — the leading global conference on regional anesthesia\, ultrasound-guided techniques\, and pain management. International faculty\, hands-on workshops\, and CME credits. Location: Geneva\, Switzerland.
URL:https://www.anesthesiaconference.com/event/esra-43rd-annual-congress-2026/
END:VEVENT
BEGIN:VEVENT
DTSTART;TZID=UTC:20260910T070000
DTEND;TZID=UTC:20260913T180000
DTSTAMP:20260419T142037
CREATED:20260415T225927Z
LAST-MODIFIED:20260415T225927Z
UID:75-1789023600-1789322400@www.anesthesiaconference.com
SUMMARY:Texas Society of Anesthesiologists Annual Meeting 2026
DESCRIPTION:Texas-based anesthesia conference covering clinical topics\, legislative updates\, and professional development. CME credits offered. Location: JW Marriott San Antonio Hill Country\, San Antonio\, TX.
URL:https://www.anesthesiaconference.com/event/texas-society-of-anesthesiologists-annual-meeting-2026/
END:VEVENT
BEGIN:VEVENT
DTSTART;TZID=UTC:20260915T070000
DTEND;TZID=UTC:20260918T180000
DTSTAMP:20260419T142037
CREATED:20260415T230209Z
LAST-MODIFIED:20260415T230209Z
UID:103-1789455600-1789754400@www.anesthesiaconference.com
SUMMARY:Topics in Anesthesia - Northwest Anesthesia Seminars (Fall)
DESCRIPTION:Northwest Anesthesia Seminars fall conference covering trending topics in anesthesia. CME credits available.
URL:https://www.anesthesiaconference.com/event/topics-in-anesthesia-northwest-anesthesia-seminars-fall/
END:VEVENT
BEGIN:VEVENT
DTSTART;TZID=UTC:20260915T070000
DTEND;TZID=UTC:20260918T180000
DTSTAMP:20260419T142037
CREATED:20260415T230817Z
LAST-MODIFIED:20260415T230817Z
UID:129-1789455600-1789754400@www.anesthesiaconference.com
SUMMARY:Topics in Anesthesia — Northwest Anesthesia Seminars (Hot Springs\, VA)
DESCRIPTION:Northwest Anesthesia Seminars conference covering trending topics in anesthesia at the historic Omni Homestead Resort. Expert faculty and case-based learning. CME credits available. Location: Hot Springs\, Virginia.
URL:https://www.anesthesiaconference.com/event/topics-in-anesthesia-northwest-anesthesia-seminars-hot-springs-va/
END:VEVENT
BEGIN:VEVENT
DTSTART;TZID=UTC:20260915T070000
DTEND;TZID=UTC:20260918T180000
DTSTAMP:20260419T142037
CREATED:20260416T102632Z
LAST-MODIFIED:20260416T102632Z
UID:145-1789455600-1789754400@www.anesthesiaconference.com
SUMMARY:Topics in Anesthesia — Northwest Anesthesia Seminars (Fall)
DESCRIPTION:Northwest Anesthesia Seminars fall conference covering trending topics in anesthesia. Expert faculty\, case discussions\, and CME credits. Location: TBD (typically mainland US venue).
URL:https://www.anesthesiaconference.com/event/topics-in-anesthesia-northwest-anesthesia-seminars-fall-2/
END:VEVENT
BEGIN:VEVENT
DTSTART;TZID=UTC:20260916T070000
DTEND;TZID=UTC:20260918T180000
DTSTAMP:20260419T142037
CREATED:20260415T231035Z
LAST-MODIFIED:20260415T231035Z
UID:138-1789542000-1789754400@www.anesthesiaconference.com
SUMMARY:AAGBI Annual Congress 2026
DESCRIPTION:Association of Anaesthetists of Great Britain and Ireland Annual Congress — the flagship UK anesthesia meeting drawing 1\,000+ trainee and consultant anaesthetists. Three days of clinical education\, workshops\, and professional development. European CPD accredited. Location: England\, UK.
URL:https://www.anesthesiaconference.com/event/aagbi-annual-congress-2026/
END:VEVENT
BEGIN:VEVENT
DTSTART;TZID=UTC:20260925T070000
DTEND;TZID=UTC:20260927T180000
DTSTAMP:20260419T142037
CREATED:20260415T230812Z
LAST-MODIFIED:20260415T230812Z
UID:126-1790319600-1790532000@www.anesthesiaconference.com
SUMMARY:Ohio Society of Anesthesiologists 87th Annual Conference 2026
DESCRIPTION:Ohio Society of Anesthesiologists 87th Annual Conference — clinical education\, resident research presentations\, and networking for Ohio anesthesia professionals. CME credits available. Location: Hilton Columbus at Easton\, Columbus\, OH.
URL:https://www.anesthesiaconference.com/event/ohio-society-of-anesthesiologists-87th-annual-conference-2026/
END:VEVENT
BEGIN:VEVENT
DTSTART;TZID=UTC:20260926T070000
DTEND;TZID=UTC:20260927T180000
DTSTAMP:20260419T142037
CREATED:20260415T230441Z
LAST-MODIFIED:20260415T230441Z
UID:115-1790406000-1790532000@www.anesthesiaconference.com
SUMMARY:Great Lakes Anesthesiology Meeting (GLAM) 2026
DESCRIPTION:A brand new CME collaboration between the Indiana\, Illinois\, Michigan and Wisconsin component societies. Engage with anesthesiology professionals across the Great Lakes region. CME credits available. Location: Chicago\, Illinois.
URL:https://www.anesthesiaconference.com/event/great-lakes-anesthesiology-meeting-glam-2026/
END:VEVENT
BEGIN:VEVENT
DTSTART;TZID=UTC:20261008T070000
DTEND;TZID=UTC:20261011T180000
DTSTAMP:20260419T142037
CREATED:20260415T231039Z
LAST-MODIFIED:20260415T231039Z
UID:141-1791442800-1791741600@www.anesthesiaconference.com
SUMMARY:Combined Scientific Congress (CSC) 2026
DESCRIPTION:Australian Society of Anaesthetists and New Zealand Society of Anaesthetists Combined Scientific Congress 2026 — biennial joint meeting bringing together anesthetists from Australia and New Zealand for clinical education\, research\, and networking. CME/CE credits available. Location: Hunter Valley\, Australia.
URL:https://www.anesthesiaconference.com/event/combined-scientific-congress-csc-2026/
END:VEVENT
BEGIN:VEVENT
DTSTART;TZID=UTC:20261009T070000
DTEND;TZID=UTC:20261009T180000
DTSTAMP:20260419T142037
CREATED:20260415T230946Z
LAST-MODIFIED:20260415T230946Z
UID:132-1791529200-1791568800@www.anesthesiaconference.com
SUMMARY:NJSSA 66th Annual Meeting 2026
DESCRIPTION:New Jersey State Society of Anesthesiologists 66th Annual Meeting — one-day clinical education program with focus on equity\, diversity\, patient safety\, and perioperative pain management. Topics include ASA advocacy update\, political advocacy\, new pharmacologic approaches to pain\, and pediatric ambulatory anesthesia. CME credits available. Location: Hyatt Regency\, New Brunswick\, NJ.
URL:https://www.anesthesiaconference.com/event/njssa-66th-annual-meeting-2026/
END:VEVENT
BEGIN:VEVENT
DTSTART;TZID=UTC:20261016T070000
DTEND;TZID=UTC:20261016T180000
DTSTAMP:20260419T142037
CREATED:20260415T230238Z
LAST-MODIFIED:20260415T230238Z
UID:110-1792134000-1792173600@www.anesthesiaconference.com
SUMMARY:SPA 40th Annual Meeting 2026
DESCRIPTION:Society for Pediatric Anesthesia 40th Annual Meeting — the premier educational event for pediatric anesthesiology. World-renowned faculty\, cutting-edge research\, and networking with pediatric anesthesia specialists. CME credits available. Location: Hilton San Diego Bayfront\, San Diego\, CA.
URL:https://www.anesthesiaconference.com/event/spa-40th-annual-meeting-2026/
END:VEVENT
BEGIN:VEVENT
DTSTART;TZID=UTC:20261016T070000
DTEND;TZID=UTC:20261020T180000
DTSTAMP:20260419T142037
CREATED:20260415T225928Z
LAST-MODIFIED:20260415T225928Z
UID:67-1792134000-1792519200@www.anesthesiaconference.com
SUMMARY:ASA ANESTHESIOLOGY 2026 Annual Meeting
DESCRIPTION:The ASA Annual Meeting is the premier educational event for anesthesiologists\, featuring cutting-edge research\, hands-on workshops\, and networking with leading experts. CME credits available. Location: San Diego Convention Center\, San Diego\, CA.
URL:https://www.anesthesiaconference.com/event/asa-annual-meeting-2026/
END:VEVENT
BEGIN:VEVENT
DTSTART;TZID=UTC:20261019T070000
DTEND;TZID=UTC:20261023T180000
DTSTAMP:20260419T142037
CREATED:20260415T230210Z
LAST-MODIFIED:20260415T230210Z
UID:104-1792393200-1792778400@www.anesthesiaconference.com
SUMMARY:Relevant Topics in Anesthesia - Northwest Anesthesia Seminars (Maui)
DESCRIPTION:Northwest Anesthesia Seminars conference on relevant topics in anesthesia care. CME credits available. Location: Maui\, Hawaii.
URL:https://www.anesthesiaconference.com/event/relevant-topics-in-anesthesia-northwest-anesthesia-seminars-maui/
END:VEVENT
BEGIN:VEVENT
DTSTART;TZID=UTC:20261019T070000
DTEND;TZID=UTC:20261023T180000
DTSTAMP:20260419T142037
CREATED:20260416T102633Z
LAST-MODIFIED:20260416T102633Z
UID:146-1792393200-1792778400@www.anesthesiaconference.com
SUMMARY:Relevant Topics in Anesthesia — Northwest Anesthesia Seminars (Maui)
DESCRIPTION:Northwest Anesthesia Seminars conference on relevant topics in anesthesia care through lectures and case studies. CME credits available. Location: Maui\, Hawaii.
URL:https://www.anesthesiaconference.com/event/relevant-topics-in-anesthesia-northwest-anesthesia-seminars-maui-2/
END:VEVENT
END:VCALENDAR